{"text_format":"1","workbook":"xlsx","n_sheets":10,"sheets":["Заставка","Меню","Услуги","Продажи","Оформление","Test","Сотрудники","Начисление зп","Отчеты","Доступ"],"not_rendered":{"charts":0,"images":9,"macros":1,"external_links":0,"defined_names":10,"comments":0,"pivot_tables":7},"unopened":[],"bounds":{"document_bytes":16777216,"sheet_cells":100000,"rows_first":2000,"rows_last":500,"rows_between":2000,"halvings":0,"cell_chars":16384,"cell_head_chars":4096},"cells_cut":0,"cells_raw":0,"read":"whole","date_system":"1900"}

{"sheet":"Заставка","index":0,"n_rows":0,"n_cols":0,"rows_kept":0,"cut":false,"hidden":false,"merged":[]}

{"sheet":"Меню","index":1,"n_rows":0,"n_cols":0,"rows_kept":0,"cut":false,"hidden":false,"merged":[]}

{"sheet":"Услуги","index":2,"n_rows":22,"n_cols":7,"rows_kept":22,"cut":false,"hidden":false,"merged":[[14,4,14,6]]}
[]
[]
[]
[]
[]
[]
[]
[]
[]
[]
[]
[]
[]
[]
[null,null,null,null,"Цена, т/км"]
[null,null,"Код товара","Наименование","<=20 км","20..100 км",">100 км"]
[null,null,1,"Гравий",500,450,400]
[null,null,2,"Доски",400,350,300]
[null,null,3,"Кирпич",150,130,110]
[null,null,4,"Песок",300,260,220]
[null,null,5,"Цемент",250,210,180]
[null,null,6,"Щебень",100,90,80]

{"sheet":"Продажи","index":3,"n_rows":315,"n_cols":17,"rows_kept":315,"cut":false,"hidden":false,"merged":[]}
[]
[]
[null,null,"Сортировать по.."]
[]
[null,null,null,null,null,null,null,null,null,null,null,null,null,null,null,null,"Дата продажи"]
[null,null,"Критерии","Дата продажи","Наименование","Количество","Цена","Сумма",null,null,null,null,null,null,null,null,"Код товара"]
[null,null,"поиска",null,"Щебень",">6",null,null,null,null,null,null,null,null,null,null,"Наименование"]
[null,null,null,null,null,null,null,null,null,null,null,null,null,null,null,null,"Количество"]
[null,null,null,null,null,null,null,null,null,null,null,null,null,null,null,null,"Цена"]
[null,null,null,null,null,null,null,null,null,null,null,null,null,null,null,null,"Сумма"]
[null,"Заказ","Дата","Код товара","Наименование","Количество","Расстояние","Цена","Сумма","Сотрудник",null,null,null,null,null,null,1]
[null,1,"2015-10-06",5,"Кирпич",11,11,150,18150,"Смирнова"]
[null,2,"2015-10-06",5,"Кирпич",11,11,150,18150,"Смирнова",null,null,null,null,null,null,"Щебень"]
[null,3,"2009-10-01",1,{"$f":"VLOOKUP(D14,Справочник_товары,2)","v":"Гравий"},5,29,{"$f":"VLOOKUP(D14,Услуги!$C$17:$E$22,3)","v":500},{"$f":"F14*G14*H14","v":72500},"Баранова",null,null,null,null,null,null,"Керпич"]
[null,4,"2009-10-01",2,"Доски",5,13,{"$f":"VLOOKUP(D15,Услуги!$C$17:$E$22,3)","v":400},26000,"Смирнова",null,null,null,null,null,null,"Цемент"]
[null,5,"2009-10-01",2,"Доски",6,20,{"$f":"VLOOKUP(D16,Услуги!$C$17:$E$22,3)","v":400},48000,"Смирнова",null,null,null,null,null,null,"Песок"]
[null,6,"2009-10-01",3,"Кирпич",7,22,{"$f":"VLOOKUP(D17,Услуги!$C$17:$E$22,3)","v":150},23100,"Баранова",null,null,null,null,null,null,"Доски"]
[null,7,"2009-10-02",2,"Доски",1,22,{"$f":"VLOOKUP(D18,Услуги!$C$17:$E$22,3)","v":400},8800,"Меньшова",null,null,null,null,null,null,"Грави"]
[null,8,"2009-10-02",6,"Щебень",3,25,{"$f":"VLOOKUP(D19,Услуги!$C$17:$E$22,3)","v":100},7500,"Меньшова"]
[null,9,"2009-10-02",1,"Гравий",5,18,{"$f":"VLOOKUP(D20,Услуги!$C$17:$E$22,3)","v":500},45000,"Смирнова"]
[null,10,"2009-10-02",1,"Гравий",5,19,{"$f":"VLOOKUP(D21,Услуги!$C$17:$E$22,3)","v":500},47500,"Баранова"]
[null,11,"2009-10-02",3,"Кирпич",5,22,{"$f":"VLOOKUP(D22,Услуги!$C$17:$E$22,3)","v":150},16500,"Смирнова"]
[null,12,"2009-10-02",3,"Кирпич",5,25,{"$f":"VLOOKUP(D23,Услуги!$C$17:$E$22,3)","v":150},18750,"Баранова"]
[null,13,"2009-10-02",4,"Песок",5,22,{"$f":"VLOOKUP(D24,Услуги!$C$17:$E$22,3)","v":300},33000,"Баранова"]
[null,14,"2009-10-02",6,"Щебень",5,23,{"$f":"VLOOKUP(D25,Услуги!$C$17:$E$22,3)","v":100},11500,"Баранова"]
[null,15,"2009-10-02",3,"Кирпич",6,9,{"$f":"VLOOKUP(D26,Услуги!$C$17:$E$22,3)","v":150},8100,"Смирнова"]
[null,16,"2009-10-02",1,"Гравий",7,11,{"$f":"VLOOKUP(D27,Услуги!$C$17:$E$22,3)","v":500},38500,"Меньшова"]
[null,17,"2009-10-02",1,"Гравий",7,22,{"$f":"VLOOKUP(D28,Услуги!$C$17:$E$22,3)","v":500},77000,"Меньшова"]
[null,18,"2009-10-02",1,"Гравий",7,5,{"$f":"VLOOKUP(D29,Услуги!$C$17:$E$22,3)","v":500},17500,"Смирнова"]
[null,19,"2009-10-02",4,"Песок",7,23,{"$f":"VLOOKUP(D30,Услуги!$C$17:$E$22,3)","v":300},48300,"Баранова"]
[null,20,"2009-10-02",3,"Кирпич",8,18,{"$f":"VLOOKUP(D31,Услуги!$C$17:$E$22,3)","v":150},21600,"Меньшова"]
[null,21,"2009-10-02",6,"Щебень",9,10,{"$f":"VLOOKUP(D32,Услуги!$C$17:$E$22,3)","v":100},9000,"Смирнова"]
[null,22,"2009-10-02",1,"Гравий",10,29,{"$f":"VLOOKUP(D33,Услуги!$C$17:$E$22,3)","v":500},145000,"Баранова"]
[null,23,"2009-10-03",1,"Гравий",2,17,{"$f":"VLOOKUP(D34,Услуги!$C$17:$E$22,3)","v":500},17000,"Баранова"]
[null,24,"2009-10-03",2,"Доски",2,12,{"$f":"VLOOKUP(D35,Услуги!$C$17:$E$22,3)","v":400},9600,"Баранова"]
[null,25,"2009-10-03",3,"Кирпич",4,10,{"$f":"VLOOKUP(D36,Услуги!$C$17:$E$22,3)","v":150},6000,"Меньшова"]
[null,26,"2009-10-03",5,"Цемент",4,29,{"$f":"VLOOKUP(D37,Услуги!$C$17:$E$22,3)","v":250},29000,"Смирнова"]
[null,27,"2009-10-03",1,"Гравий",6,28,{"$f":"VLOOKUP(D38,Услуги!$C$17:$E$22,3)","v":500},84000,"Баранова"]
[null,28,"2009-10-03",3,"Кирпич",6,14,{"$f":"VLOOKUP(D39,Услуги!$C$17:$E$22,3)","v":150},12600,"Смирнова"]
[null,29,"2009-10-03",3,"Кирпич",7,11,{"$f":"VLOOKUP(D40,Услуги!$C$17:$E$22,3)","v":150},11550,"Меньшова"]
[null,30,"2009-10-03",1,"Гравий",8,17,{"$f":"VLOOKUP(D41,Услуги!$C$17:$E$22,3)","v":500},68000,"Меньшова"]
[null,31,"2009-10-03",2,"Доски",8,22,{"$f":"VLOOKUP(D42,Услуги!$C$17:$E$22,3)","v":400},70400,"Меньшова"]
[null,32,"2009-10-03",3,"Кирпич",9,18,{"$f":"VLOOKUP(D43,Услуги!$C$17:$E$22,3)","v":150},24300,"Смирнова"]
[null,33,"2009-10-03",3,"Кирпич",10,23,{"$f":"VLOOKUP(D44,Услуги!$C$17:$E$22,3)","v":150},34500,"Баранова"]
[null,34,"2009-10-04",1,"Гравий",1,11,{"$f":"VLOOKUP(D45,Услуги!$C$17:$E$22,3)","v":500},5500,"Баранова"]
[null,35,"2009-10-04",3,"Кирпич",1,27,{"$f":"VLOOKUP(D46,Услуги!$C$17:$E$22,3)","v":150},4050,"Меньшова"]
[null,36,"2009-10-04",2,"Доски",2,12,{"$f":"VLOOKUP(D47,Услуги!$C$17:$E$22,3)","v":400},9600,"Баранова"]
[null,37,"2009-10-04",1,"Гравий",3,15,{"$f":"VLOOKUP(D48,Услуги!$C$17:$E$22,3)","v":500},22500,"Меньшова"]
[null,38,"2009-10-04",2,"Доски",3,18,{"$f":"VLOOKUP(D49,Услуги!$C$17:$E$22,3)","v":400},21600,"Меньшова"]
[null,39,"2009-10-04",6,"Щебень",3,5,{"$f":"VLOOKUP(D50,Услуги!$C$17:$E$22,3)","v":100},1500,"Баранова"]
[null,40,"2009-10-04",2,"Доски",4,23,{"$f":"VLOOKUP(D51,Услуги!$C$17:$E$22,3)","v":400},36800,"Смирнова"]
[null,41,"2009-10-04",1,"Гравий",6,23,{"$f":"VLOOKUP(D52,Услуги!$C$17:$E$22,3)","v":500},69000,"Меньшова"]
[null,42,"2009-10-04",2,"Доски",8,26,{"$f":"VLOOKUP(D53,Услуги!$C$17:$E$22,3)","v":400},83200,"Меньшова"]
[null,43,"2009-10-04",5,"Цемент",9,7,{"$f":"VLOOKUP(D54,Услуги!$C$17:$E$22,3)","v":250},15750,"Смирнова"]
[null,44,"2009-10-04",6,"Щебень",10,13,{"$f":"VLOOKUP(D55,Услуги!$C$17:$E$22,3)","v":100},13000,"Баранова"]
[null,45,"2009-10-05",1,"Гравий",1,20,{"$f":"VLOOKUP(D56,Услуги!$C$17:$E$22,3)","v":500},10000,"Смирнова"]
[null,46,"2009-10-05",3,"Кирпич",1,8,{"$f":"VLOOKUP(D57,Услуги!$C$17:$E$22,3)","v":150},1200,"Меньшова"]
[null,47,"2009-10-05",6,"Щебень",2,10,{"$f":"VLOOKUP(D58,Услуги!$C$17:$E$22,3)","v":100},2000,"Баранова"]
[null,48,"2009-10-05",1,"Гравий",5,11,{"$f":"VLOOKUP(D59,Услуги!$C$17:$E$22,3)","v":500},27500,"Смирнова"]
[null,49,"2009-10-05",1,"Гравий",8,16,{"$f":"VLOOKUP(D60,Услуги!$C$17:$E$22,3)","v":500},64000,"Смирнова"]
[null,50,"2009-10-05",2,"Доски",10,11,{"$f":"VLOOKUP(D61,Услуги!$C$17:$E$22,3)","v":400},44000,"Меньшова"]
[null,51,"2009-10-05",5,"Цемент",10,11,{"$f":"VLOOKUP(D62,Услуги!$C$17:$E$22,3)","v":250},27500,"Баранова"]
[null,52,"2009-10-06",1,"Гравий",2,20,{"$f":"VLOOKUP(D63,Услуги!$C$17:$E$22,3)","v":500},20000,"Смирнова"]
[null,53,"2009-10-06",5,"Цемент",2,28,{"$f":"VLOOKUP(D64,Услуги!$C$17:$E$22,3)","v":250},14000,"Смирнова"]
[null,54,"2009-10-06",2,"Доски",3,10,{"$f":"VLOOKUP(D65,Услуги!$C$17:$E$22,3)","v":400},12000,"Баранова"]
[null,55,"2009-10-06",6,"Щебень",4,29,{"$f":"VLOOKUP(D66,Услуги!$C$17:$E$22,3)","v":100},11600,"Смирнова"]
[null,56,"2009-10-06",3,"Кирпич",5,24,{"$f":"VLOOKUP(D67,Услуги!$C$17:$E$22,3)","v":150},18000,"Смирнова"]
[null,57,"2009-10-06",4,"Песок",6,9,{"$f":"VLOOKUP(D68,Услуги!$C$17:$E$22,3)","v":300},16200,"Меньшова"]
[null,58,"2009-10-06",2,"Доски",7,25,{"$f":"VLOOKUP(D69,Услуги!$C$17:$E$22,3)","v":400},70000,"Меньшова"]
[null,59,"2009-10-06",4,"Песок",7,8,{"$f":"VLOOKUP(D70,Услуги!$C$17:$E$22,3)","v":300},16800,"Смирнова"]
[null,60,"2009-10-06",4,"Песок",8,21,{"$f":"VLOOKUP(D71,Услуги!$C$17:$E$22,3)","v":300},50400,"Смирнова"]
[null,61,"2009-10-06",5,"Цемент",8,8,{"$f":"VLOOKUP(D72,Услуги!$C$17:$E$22,3)","v":250},16000,"Смирнова"]
[null,62,"2009-10-06",1,"Гравий",9,11,{"$f":"VLOOKUP(D73,Услуги!$C$17:$E$22,3)","v":500},49500,"Меньшова"]
[null,63,"2009-10-06",5,"Цемент",10,13,{"$f":"VLOOKUP(D74,Услуги!$C$17:$E$22,3)","v":250},32500,"Смирнова"]
[null,64,"2009-10-07",3,"Кирпич",1,9,{"$f":"VLOOKUP(D75,Услуги!$C$17:$E$22,3)","v":150},1350,"Смирнова"]
[null,65,"2009-10-07",3,{"$f":"VLOOKUP(D76,Справочник_товары,2)","v":"Кирпич"},1,20,{"$f":"VLOOKUP(D76,Услуги!$C$17:$E$22,3)","v":150},3000,"Баранова"]
[null,66,"2009-10-07",2,"Доски",2,17,{"$f":"VLOOKUP(D77,Услуги!$C$17:$E$22,3)","v":400},{"$f":"F77*G77*H77","v":13600},"Смирнова"]
[null,67,"2009-10-07",1,"Гравий",3,22,{"$f":"VLOOKUP(D78,Услуги!$C$17:$E$22,3)","v":500},33000,"Смирнова"]
[null,68,"2009-10-07",1,"Гравий",4,7,{"$f":"VLOOKUP(D79,Услуги!$C$17:$E$22,3)","v":500},14000,"Баранова"]
[null,69,"2009-10-07",2,"Доски",4,21,{"$f":"VLOOKUP(D80,Услуги!$C$17:$E$22,3)","v":400},33600,"Меньшова"]
[null,70,"2009-10-07",4,"Песок",4,15,{"$f":"VLOOKUP(D81,Услуги!$C$17:$E$22,3)","v":300},18000,"Баранова"]
[null,71,"2009-10-07",6,"Щебень",7,5,{"$f":"VLOOKUP(D82,Услуги!$C$17:$E$22,3)","v":100},3500,"Смирнова"]
[null,72,"2009-10-07",2,"Доски",8,26,{"$f":"VLOOKUP(D83,Услуги!$C$17:$E$22,3)","v":400},83200,"Смирнова"]
[null,73,"2009-10-07",6,"Щебень",8,14,{"$f":"VLOOKUP(D84,Услуги!$C$17:$E$22,3)","v":100},11200,"Баранова"]
[null,74,"2009-10-07",5,"Цемент",10,29,{"$f":"VLOOKUP(D85,Услуги!$C$17:$E$22,3)","v":250},72500,"Смирнова"]
[null,75,"2009-10-08",1,"Гравий",3,19,{"$f":"VLOOKUP(D86,Услуги!$C$17:$E$22,3)","v":500},28500,"Баранова"]
[null,76,"2009-10-08",2,"Доски",3,5,{"$f":"VLOOKUP(D87,Услуги!$C$17:$E$22,3)","v":400},6000,"Баранова"]
[null,77,"2009-10-08",3,"Кирпич",3,12,{"$f":"VLOOKUP(D88,Услуги!$C$17:$E$22,3)","v":150},5400,"Баранова"]
[null,78,"2009-10-08",3,"Кирпич",4,28,{"$f":"VLOOKUP(D89,Услуги!$C$17:$E$22,3)","v":150},16800,"Баранова"]
[null,79,"2009-10-08",4,"Песок",4,7,{"$f":"VLOOKUP(D90,Услуги!$C$17:$E$22,3)","v":300},8400,"Меньшова"]
[null,80,"2009-10-08",6,"Щебень",4,25,{"$f":"VLOOKUP(D91,Услуги!$C$17:$E$22,3)","v":100},10000,"Смирнова"]
[null,81,"2009-10-08",6,"Щебень",4,23,{"$f":"VLOOKUP(D92,Услуги!$C$17:$E$22,3)","v":100},9200,"Смирнова"]
[null,82,"2009-10-08",1,"Гравий",8,21,{"$f":"VLOOKUP(D93,Услуги!$C$17:$E$22,3)","v":500},84000,"Баранова"]
[null,83,"2009-10-08",2,"Доски",8,16,{"$f":"VLOOKUP(D94,Услуги!$C$17:$E$22,3)","v":400},51200,"Меньшова"]
[null,84,"2009-10-08",3,"Кирпич",8,26,{"$f":"VLOOKUP(D95,Услуги!$C$17:$E$22,3)","v":150},31200,"Смирнова"]
[null,85,"2009-10-08",5,"Цемент",8,16,{"$f":"VLOOKUP(D96,Услуги!$C$17:$E$22,3)","v":250},32000,"Смирнова"]
[null,86,"2009-10-08",3,"Кирпич",10,9,{"$f":"VLOOKUP(D97,Услуги!$C$17:$E$22,3)","v":150},13500,"Баранова"]
[null,87,"2009-10-08",3,"Кирпич",10,14,{"$f":"VLOOKUP(D98,Услуги!$C$17:$E$22,3)","v":150},21000,"Баранова"]
[null,88,"2009-10-09",1,"Гравий",2,22,{"$f":"VLOOKUP(D99,Услуги!$C$17:$E$22,3)","v":500},22000,"Смирнова"]
[null,89,"2009-10-09",2,"Доски",2,12,{"$f":"VLOOKUP(D100,Услуги!$C$17:$E$22,3)","v":400},9600,"Баранова"]
[null,90,"2009-10-09",3,"Кирпич",3,7,{"$f":"VLOOKUP(D101,Услуги!$C$17:$E$22,3)","v":150},3150,"Меньшова"]
[null,91,"2009-10-09",1,"Гравий",4,20,{"$f":"VLOOKUP(D102,Услуги!$C$17:$E$22,3)","v":500},40000,"Меньшова"]
[null,92,"2009-10-09",3,"Кирпич",4,22,{"$f":"VLOOKUP(D103,Услуги!$C$17:$E$22,3)","v":150},13200,"Баранова"]
[null,93,"2009-10-09",3,"Кирпич",5,26,{"$f":"VLOOKUP(D104,Услуги!$C$17:$E$22,3)","v":150},19500,"Баранова"]
[null,94,"2009-10-09",2,"Доски",6,9,{"$f":"VLOOKUP(D105,Услуги!$C$17:$E$22,3)","v":400},21600,"Баранова"]
[null,95,"2009-10-09",3,"Кирпич",10,5,{"$f":"VLOOKUP(D106,Услуги!$C$17:$E$22,3)","v":150},7500,"Смирнова"]
[null,96,"2009-10-10",1,"Гравий",2,26,{"$f":"VLOOKUP(D107,Услуги!$C$17:$E$22,3)","v":500},26000,"Баранова"]
[null,97,"2009-10-10",1,"Гравий",3,26,{"$f":"VLOOKUP(D108,Услуги!$C$17:$E$22,3)","v":500},39000,"Смирнова"]
[null,98,"2009-10-10",4,"Песок",3,6,{"$f":"VLOOKUP(D109,Услуги!$C$17:$E$22,3)","v":300},5400,"Баранова"]
[null,99,"2009-10-10",4,"Песок",4,28,{"$f":"VLOOKUP(D110,Услуги!$C$17:$E$22,3)","v":300},33600,"Меньшова"]
[null,100,"2009-10-10",2,"Доски",5,10,{"$f":"VLOOKUP(D111,Услуги!$C$17:$E$22,3)","v":400},20000,"Меньшова"]
[null,101,"2009-10-10",3,"Кирпич",5,10,{"$f":"VLOOKUP(D112,Услуги!$C$17:$E$22,3)","v":150},7500,"Смирнова"]
[null,102,"2009-10-10",1,"Гравий",7,24,{"$f":"VLOOKUP(D113,Услуги!$C$17:$E$22,3)","v":500},84000,"Баранова"]
[null,103,"2009-10-10",1,"Гравий",8,16,{"$f":"VLOOKUP(D114,Услуги!$C$17:$E$22,3)","v":500},64000,"Баранова"]
[null,104,"2009-10-10",3,"Кирпич",8,14,{"$f":"VLOOKUP(D115,Услуги!$C$17:$E$22,3)","v":150},16800,"Смирнова"]
[null,105,"2009-10-10",3,"Кирпич",8,18,{"$f":"VLOOKUP(D116,Услуги!$C$17:$E$22,3)","v":150},21600,"Баранова"]
[null,106,"2009-10-10",4,"Песок",9,25,{"$f":"VLOOKUP(D117,Услуги!$C$17:$E$22,3)","v":300},67500,"Баранова"]
[null,107,"2009-10-10",3,"Кирпич",10,26,{"$f":"VLOOKUP(D118,Услуги!$C$17:$E$22,3)","v":150},39000,"Смирнова"]
[null,108,"2009-10-11",5,"Цемент",1,8,{"$f":"VLOOKUP(D119,Услуги!$C$17:$E$22,3)","v":250},2000,"Баранова"]
[null,109,"2009-10-11",2,"Доски",2,24,{"$f":"VLOOKUP(D120,Услуги!$C$17:$E$22,3)","v":400},19200,"Баранова"]
[null,110,"2009-10-11",3,"Кирпич",3,10,{"$f":"VLOOKUP(D121,Услуги!$C$17:$E$22,3)","v":150},4500,"Баранова"]
[null,111,"2009-10-11",5,"Цемент",3,17,{"$f":"VLOOKUP(D122,Услуги!$C$17:$E$22,3)","v":250},12750,"Баранова"]
[null,112,"2009-10-11",2,"Доски",4,28,{"$f":"VLOOKUP(D123,Услуги!$C$17:$E$22,3)","v":400},44800,"Баранова"]
[null,113,"2009-10-11",6,"Щебень",4,16,{"$f":"VLOOKUP(D124,Услуги!$C$17:$E$22,3)","v":100},6400,"Баранова"]
[null,114,"2009-10-11",3,"Кирпич",5,24,{"$f":"VLOOKUP(D125,Услуги!$C$17:$E$22,3)","v":150},18000,"Баранова"]
[null,115,"2009-10-11",4,"Песок",6,24,{"$f":"VLOOKUP(D126,Услуги!$C$17:$E$22,3)","v":300},43200,"Смирнова"]
[null,116,"2009-10-11",6,"Щебень",6,16,{"$f":"VLOOKUP(D127,Услуги!$C$17:$E$22,3)","v":100},9600,"Смирнова"]
[null,117,"2009-10-11",1,"Гравий",7,23,{"$f":"VLOOKUP(D128,Услуги!$C$17:$E$22,3)","v":500},80500,"Баранова"]
[null,118,"2009-10-11",2,"Доски",7,16,{"$f":"VLOOKUP(D129,Услуги!$C$17:$E$22,3)","v":400},44800,"Меньшова"]
[null,119,"2009-10-11",1,"Гравий",8,24,{"$f":"VLOOKUP(D130,Услуги!$C$17:$E$22,3)","v":500},96000,"Меньшова"]
[null,120,"2009-10-11",6,"Щебень",8,10,{"$f":"VLOOKUP(D131,Услуги!$C$17:$E$22,3)","v":100},8000,"Баранова"]
[null,121,"2009-10-11",3,"Кирпич",9,22,{"$f":"VLOOKUP(D132,Услуги!$C$17:$E$22,3)","v":150},29700,"Баранова"]
[null,122,"2009-10-11",3,"Кирпич",9,21,{"$f":"VLOOKUP(D133,Услуги!$C$17:$E$22,3)","v":150},28350,"Смирнова"]
[null,123,"2009-10-11",4,"Песок",10,22,{"$f":"VLOOKUP(D134,Услуги!$C$17:$E$22,3)","v":300},66000,"Меньшова"]
[null,124,"2009-10-12",1,"Гравий",1,20,{"$f":"VLOOKUP(D135,Услуги!$C$17:$E$22,3)","v":500},10000,"Баранова"]
[null,125,"2009-10-12",6,"Щебень",1,23,{"$f":"VLOOKUP(D136,Услуги!$C$17:$E$22,3)","v":100},2300,"Смирнова"]
[null,126,"2009-10-12",6,"Щебень",2,7,{"$f":"VLOOKUP(D137,Услуги!$C$17:$E$22,3)","v":100},1400,"Баранова"]
[null,127,"2009-10-12",6,"Щебень",2,18,{"$f":"VLOOKUP(D138,Услуги!$C$17:$E$22,3)","v":100},3600,"Смирнова"]
[null,128,"2009-10-12",1,"Гравий",5,6,{"$f":"VLOOKUP(D139,Услуги!$C$17:$E$22,3)","v":500},15000,"Баранова"]
[null,129,"2009-10-12",1,{"$f":"VLOOKUP(D140,Справочник_товары,2)","v":"Гравий"},5,27,{"$f":"VLOOKUP(D140,Услуги!$C$17:$E$22,3)","v":500},67500,"Баранова"]
[null,130,"2009-10-12",5,"Цемент",5,9,{"$f":"VLOOKUP(D141,Услуги!$C$17:$E$22,3)","v":250},{"$f":"F141*G141*H141","v":11250},"Меньшова"]
[null,131,"2009-10-12",4,"Песок",6,17,{"$f":"VLOOKUP(D142,Услуги!$C$17:$E$22,3)","v":300},30600,"Меньшова"]
[null,132,"2009-10-12",1,"Гравий",7,12,{"$f":"VLOOKUP(D143,Услуги!$C$17:$E$22,3)","v":500},42000,"Меньшова"]
[null,133,"2009-10-12",5,"Цемент",8,15,{"$f":"VLOOKUP(D144,Услуги!$C$17:$E$22,3)","v":250},30000,"Меньшова"]
[null,134,"2009-10-13",4,"Песок",1,9,{"$f":"VLOOKUP(D145,Услуги!$C$17:$E$22,3)","v":300},2700,"Меньшова"]
[null,135,"2009-10-13",1,"Гравий",3,26,{"$f":"VLOOKUP(D146,Услуги!$C$17:$E$22,3)","v":500},39000,"Смирнова"]
[null,136,"2009-10-13",3,"Кирпич",4,15,{"$f":"VLOOKUP(D147,Услуги!$C$17:$E$22,3)","v":150},9000,"Меньшова"]
[null,137,"2009-10-13",4,"Песок",4,18,{"$f":"VLOOKUP(D148,Услуги!$C$17:$E$22,3)","v":300},21600,"Баранова"]
[null,138,"2009-10-13",2,"Доски",5,26,{"$f":"VLOOKUP(D149,Услуги!$C$17:$E$22,3)","v":400},52000,"Меньшова"]
[null,139,"2009-10-13",4,"Песок",5,19,{"$f":"VLOOKUP(D150,Услуги!$C$17:$E$22,3)","v":300},28500,"Смирнова"]
[null,140,"2009-10-13",5,"Цемент",5,14,{"$f":"VLOOKUP(D151,Услуги!$C$17:$E$22,3)","v":250},17500,"Смирнова"]
[null,141,"2009-10-13",5,"Цемент",6,6,{"$f":"VLOOKUP(D152,Услуги!$C$17:$E$22,3)","v":250},9000,"Смирнова"]
[null,142,"2009-10-13",2,"Доски",7,18,{"$f":"VLOOKUP(D153,Услуги!$C$17:$E$22,3)","v":400},50400,"Меньшова"]
[null,143,"2009-10-13",2,"Доски",8,6,{"$f":"VLOOKUP(D154,Услуги!$C$17:$E$22,3)","v":400},19200,"Меньшова"]
[null,144,"2009-10-13",6,"Щебень",10,23,{"$f":"VLOOKUP(D155,Услуги!$C$17:$E$22,3)","v":100},23000,"Смирнова"]
[null,145,"2009-10-14",3,"Кирпич",1,14,{"$f":"VLOOKUP(D156,Услуги!$C$17:$E$22,3)","v":150},2100,"Смирнова"]
[null,146,"2009-10-14",2,"Доски",3,25,{"$f":"VLOOKUP(D157,Услуги!$C$17:$E$22,3)","v":400},30000,"Баранова"]
[null,147,"2009-10-14",3,"Кирпич",4,15,{"$f":"VLOOKUP(D158,Услуги!$C$17:$E$22,3)","v":150},9000,"Баранова"]
[null,148,"2009-10-14",2,"Доски",6,11,{"$f":"VLOOKUP(D159,Услуги!$C$17:$E$22,3)","v":400},26400,"Меньшова"]
[null,149,"2009-10-14",6,"Щебень",6,16,{"$f":"VLOOKUP(D160,Услуги!$C$17:$E$22,3)","v":100},9600,"Смирнова"]
[null,150,"2009-10-14",4,"Песок",7,17,{"$f":"VLOOKUP(D161,Услуги!$C$17:$E$22,3)","v":300},35700,"Меньшова"]
[null,151,"2009-10-14",3,"Кирпич",8,21,{"$f":"VLOOKUP(D162,Услуги!$C$17:$E$22,3)","v":150},25200,"Баранова"]
[null,152,"2009-10-14",2,"Доски",9,19,{"$f":"VLOOKUP(D163,Услуги!$C$17:$E$22,3)","v":400},68400,"Меньшова"]
[null,153,"2009-10-15",1,"Гравий",4,18,{"$f":"VLOOKUP(D164,Услуги!$C$17:$E$22,3)","v":500},36000,"Баранова"]
[null,154,"2009-10-15",1,"Гравий",5,28,{"$f":"VLOOKUP(D165,Услуги!$C$17:$E$22,3)","v":500},70000,"Меньшова"]
[null,155,"2009-10-15",5,"Цемент",5,13,{"$f":"VLOOKUP(D166,Услуги!$C$17:$E$22,3)","v":250},16250,"Смирнова"]
[null,156,"2009-10-15",4,"Песок",6,25,{"$f":"VLOOKUP(D167,Услуги!$C$17:$E$22,3)","v":300},45000,"Баранова"]
[null,157,"2009-10-15",6,"Щебень",6,6,{"$f":"VLOOKUP(D168,Услуги!$C$17:$E$22,3)","v":100},3600,"Меньшова"]
[null,158,"2009-10-15",2,"Доски",9,12,{"$f":"VLOOKUP(D169,Услуги!$C$17:$E$22,3)","v":400},43200,"Баранова"]
[null,159,"2009-10-15",3,"Кирпич",9,28,{"$f":"VLOOKUP(D170,Услуги!$C$17:$E$22,3)","v":150},37800,"Смирнова"]
[null,160,"2009-10-15",1,"Гравий",10,13,{"$f":"VLOOKUP(D171,Услуги!$C$17:$E$22,3)","v":500},65000,"Баранова"]
[null,161,"2009-10-16",3,"Кирпич",1,22,{"$f":"VLOOKUP(D172,Услуги!$C$17:$E$22,3)","v":150},3300,"Баранова"]
[null,162,"2009-10-16",3,"Кирпич",2,16,{"$f":"VLOOKUP(D173,Услуги!$C$17:$E$22,3)","v":150},4800,"Смирнова"]
[null,163,"2009-10-16",6,"Щебень",3,15,{"$f":"VLOOKUP(D174,Услуги!$C$17:$E$22,3)","v":100},4500,"Смирнова"]
[null,164,"2009-10-16",1,"Гравий",4,26,{"$f":"VLOOKUP(D175,Услуги!$C$17:$E$22,3)","v":500},52000,"Баранова"]
[null,165,"2009-10-16",5,"Цемент",6,8,{"$f":"VLOOKUP(D176,Услуги!$C$17:$E$22,3)","v":250},12000,"Баранова"]
[null,166,"2009-10-16",5,"Цемент",9,21,{"$f":"VLOOKUP(D177,Услуги!$C$17:$E$22,3)","v":250},47250,"Меньшова"]
[null,167,"2009-10-16",4,"Песок",10,21,{"$f":"VLOOKUP(D178,Услуги!$C$17:$E$22,3)","v":300},63000,"Баранова"]
[null,168,"2009-10-17",6,"Щебень",1,21,{"$f":"VLOOKUP(D179,Услуги!$C$17:$E$22,3)","v":100},2100,"Меньшова"]
[null,169,"2009-10-17",3,"Кирпич",3,14,{"$f":"VLOOKUP(D180,Услуги!$C$17:$E$22,3)","v":150},6300,"Смирнова"]
[null,170,"2009-10-17",2,"Доски",6,7,{"$f":"VLOOKUP(D181,Услуги!$C$17:$E$22,3)","v":400},16800,"Баранова"]
[null,171,"2009-10-17",4,"Песок",7,9,{"$f":"VLOOKUP(D182,Услуги!$C$17:$E$22,3)","v":300},18900,"Смирнова"]
[null,172,"2009-10-17",5,"Цемент",7,23,{"$f":"VLOOKUP(D183,Услуги!$C$17:$E$22,3)","v":250},40250,"Смирнова"]
[null,173,"2009-10-17",6,"Щебень",8,9,{"$f":"VLOOKUP(D184,Услуги!$C$17:$E$22,3)","v":100},7200,"Меньшова"]
[null,174,"2009-10-17",1,"Гравий",9,19,{"$f":"VLOOKUP(D185,Услуги!$C$17:$E$22,3)","v":500},85500,"Баранова"]
[null,175,"2009-10-17",6,"Щебень",10,19,{"$f":"VLOOKUP(D186,Услуги!$C$17:$E$22,3)","v":100},19000,"Меньшова"]
[null,176,"2009-10-18",1,"Гравий",1,13,{"$f":"VLOOKUP(D187,Услуги!$C$17:$E$22,3)","v":500},6500,"Смирнова"]
[null,177,"2009-10-18",2,"Доски",1,28,{"$f":"VLOOKUP(D188,Услуги!$C$17:$E$22,3)","v":400},11200,"Баранова"]
[null,178,"2009-10-18",1,"Гравий",3,27,{"$f":"VLOOKUP(D189,Услуги!$C$17:$E$22,3)","v":500},40500,"Смирнова"]
[null,179,"2009-10-18",6,"Щебень",3,15,{"$f":"VLOOKUP(D190,Услуги!$C$17:$E$22,3)","v":100},4500,"Смирнова"]
[null,180,"2009-10-18",4,"Песок",4,13,{"$f":"VLOOKUP(D191,Услуги!$C$17:$E$22,3)","v":300},15600,"Баранова"]
[null,181,"2009-10-18",5,"Цемент",4,15,{"$f":"VLOOKUP(D192,Услуги!$C$17:$E$22,3)","v":250},15000,"Меньшова"]
[null,182,"2009-10-18",3,"Кирпич",5,9,{"$f":"VLOOKUP(D193,Услуги!$C$17:$E$22,3)","v":150},6750,"Баранова"]
[null,183,"2009-10-18",5,"Цемент",7,23,{"$f":"VLOOKUP(D194,Услуги!$C$17:$E$22,3)","v":250},40250,"Баранова"]
[null,184,"2009-10-18",1,"Гравий",9,8,{"$f":"VLOOKUP(D195,Услуги!$C$17:$E$22,3)","v":500},36000,"Смирнова"]
[null,185,"2009-10-18",5,"Цемент",9,17,{"$f":"VLOOKUP(D196,Услуги!$C$17:$E$22,3)","v":250},38250,"Меньшова"]
[null,186,"2009-10-19",1,"Гравий",3,21,{"$f":"VLOOKUP(D197,Услуги!$C$17:$E$22,3)","v":500},31500,"Меньшова"]
[null,187,"2009-10-19",3,"Кирпич",4,10,{"$f":"VLOOKUP(D198,Услуги!$C$17:$E$22,3)","v":150},6000,"Меньшова"]
[null,188,"2009-10-19",4,"Песок",6,11,{"$f":"VLOOKUP(D199,Услуги!$C$17:$E$22,3)","v":300},19800,"Смирнова"]
[null,189,"2009-10-19",3,"Кирпич",7,18,{"$f":"VLOOKUP(D200,Услуги!$C$17:$E$22,3)","v":150},18900,"Баранова"]
[null,190,"2009-10-19",4,"Песок",7,23,{"$f":"VLOOKUP(D201,Услуги!$C$17:$E$22,3)","v":300},48300,"Баранова"]
[null,191,"2009-10-19",5,"Цемент",7,6,{"$f":"VLOOKUP(D202,Услуги!$C$17:$E$22,3)","v":250},10500,"Меньшова"]
[null,192,"2009-10-19",2,"Доски",9,23,{"$f":"VLOOKUP(D203,Услуги!$C$17:$E$22,3)","v":400},82800,"Меньшова"]
[null,193,"2009-10-19",1,{"$f":"VLOOKUP(D204,Справочник_товары,2)","v":"Гравий"},10,5,{"$f":"VLOOKUP(D204,Услуги!$C$17:$E$22,3)","v":500},25000,"Меньшова"]
[null,194,"2009-10-20",2,"Доски",1,11,{"$f":"VLOOKUP(D205,Услуги!$C$17:$E$22,3)","v":400},{"$f":"F205*G205*H205","v":4400},"Смирнова"]
[null,195,"2009-10-20",4,"Песок",1,21,{"$f":"VLOOKUP(D206,Услуги!$C$17:$E$22,3)","v":300},6300,"Смирнова"]
[null,196,"2009-10-20",5,"Цемент",2,14,{"$f":"VLOOKUP(D207,Услуги!$C$17:$E$22,3)","v":250},7000,"Смирнова"]
[null,197,"2009-10-20",2,"Доски",3,18,{"$f":"VLOOKUP(D208,Услуги!$C$17:$E$22,3)","v":400},21600,"Смирнова"]
[null,198,"2009-10-20",6,"Щебень",4,14,{"$f":"VLOOKUP(D209,Услуги!$C$17:$E$22,3)","v":100},5600,"Меньшова"]
[null,199,"2009-10-20",1,"Гравий",10,10,{"$f":"VLOOKUP(D210,Услуги!$C$17:$E$22,3)","v":500},50000,"Меньшова"]
[null,200,"2009-10-20",3,"Кирпич",10,12,{"$f":"VLOOKUP(D211,Услуги!$C$17:$E$22,3)","v":150},18000,"Смирнова"]
[null,201,"2009-10-20",3,"Кирпич",10,8,{"$f":"VLOOKUP(D212,Услуги!$C$17:$E$22,3)","v":150},12000,"Баранова"]
[null,202,"2009-10-21",3,"Кирпич",1,23,{"$f":"VLOOKUP(D213,Услуги!$C$17:$E$22,3)","v":150},3450,"Меньшова"]
[null,203,"2009-10-21",6,"Щебень",2,7,{"$f":"VLOOKUP(D214,Услуги!$C$17:$E$22,3)","v":100},1400,"Меньшова"]
[null,204,"2009-10-21",3,"Кирпич",3,26,{"$f":"VLOOKUP(D215,Услуги!$C$17:$E$22,3)","v":150},11700,"Меньшова"]
[null,205,"2009-10-21",4,"Песок",5,11,{"$f":"VLOOKUP(D216,Услуги!$C$17:$E$22,3)","v":300},16500,"Меньшова"]
[null,206,"2009-10-21",6,"Щебень",8,24,{"$f":"VLOOKUP(D217,Услуги!$C$17:$E$22,3)","v":100},19200,"Смирнова"]
[null,207,"2009-10-21",2,"Доски",9,9,{"$f":"VLOOKUP(D218,Услуги!$C$17:$E$22,3)","v":400},32400,"Смирнова"]
[null,208,"2009-10-21",1,"Гравий",10,13,{"$f":"VLOOKUP(D219,Услуги!$C$17:$E$22,3)","v":500},65000,"Меньшова"]
[null,209,"2009-10-22",2,"Доски",2,10,{"$f":"VLOOKUP(D220,Услуги!$C$17:$E$22,3)","v":400},8000,"Смирнова"]
[null,210,"2009-10-22",2,"Доски",2,27,{"$f":"VLOOKUP(D221,Услуги!$C$17:$E$22,3)","v":400},21600,"Меньшова"]
[null,211,"2009-10-22",3,"Кирпич",2,14,{"$f":"VLOOKUP(D222,Услуги!$C$17:$E$22,3)","v":150},4200,"Меньшова"]
[null,212,"2009-10-22",6,"Щебень",2,19,{"$f":"VLOOKUP(D223,Услуги!$C$17:$E$22,3)","v":100},3800,"Баранова"]
[null,213,"2009-10-22",6,"Щебень",2,29,{"$f":"VLOOKUP(D224,Услуги!$C$17:$E$22,3)","v":100},5800,"Баранова"]
[null,214,"2009-10-22",5,"Цемент",3,28,{"$f":"VLOOKUP(D225,Услуги!$C$17:$E$22,3)","v":250},21000,"Баранова"]
[null,215,"2009-10-22",1,"Гравий",4,29,{"$f":"VLOOKUP(D226,Услуги!$C$17:$E$22,3)","v":500},58000,"Меньшова"]
[null,216,"2009-10-22",2,"Доски",4,20,{"$f":"VLOOKUP(D227,Услуги!$C$17:$E$22,3)","v":400},32000,"Смирнова"]
[null,217,"2009-10-22",3,"Кирпич",4,12,{"$f":"VLOOKUP(D228,Услуги!$C$17:$E$22,3)","v":150},7200,"Смирнова"]
[null,218,"2009-10-22",5,"Цемент",6,11,{"$f":"VLOOKUP(D229,Услуги!$C$17:$E$22,3)","v":250},16500,"Смирнова"]
[null,219,"2009-10-22",3,"Кирпич",8,14,{"$f":"VLOOKUP(D230,Услуги!$C$17:$E$22,3)","v":150},16800,"Меньшова"]
[null,220,"2009-10-22",4,"Песок",10,14,{"$f":"VLOOKUP(D231,Услуги!$C$17:$E$22,3)","v":300},42000,"Баранова"]
[null,221,"2009-10-23",3,"Кирпич",1,25,{"$f":"VLOOKUP(D232,Услуги!$C$17:$E$22,3)","v":150},3750,"Меньшова"]
[null,222,"2009-10-23",5,"Цемент",1,12,{"$f":"VLOOKUP(D233,Услуги!$C$17:$E$22,3)","v":250},3000,"Меньшова"]
[null,223,"2009-10-23",1,"Гравий",3,28,{"$f":"VLOOKUP(D234,Услуги!$C$17:$E$22,3)","v":500},42000,"Меньшова"]
[null,224,"2009-10-23",2,"Доски",3,28,{"$f":"VLOOKUP(D235,Услуги!$C$17:$E$22,3)","v":400},33600,"Меньшова"]
[null,225,"2009-10-23",2,"Доски",3,15,{"$f":"VLOOKUP(D236,Услуги!$C$17:$E$22,3)","v":400},18000,"Меньшова"]
[null,226,"2009-10-23",3,"Кирпич",6,23,{"$f":"VLOOKUP(D237,Услуги!$C$17:$E$22,3)","v":150},20700,"Баранова"]
[null,227,"2009-10-23",1,"Гравий",8,16,{"$f":"VLOOKUP(D238,Услуги!$C$17:$E$22,3)","v":500},64000,"Смирнова"]
[null,228,"2009-10-23",3,"Кирпич",8,24,{"$f":"VLOOKUP(D239,Услуги!$C$17:$E$22,3)","v":150},28800,"Баранова"]
[null,229,"2009-10-23",5,"Цемент",9,13,{"$f":"VLOOKUP(D240,Услуги!$C$17:$E$22,3)","v":250},29250,"Баранова"]
[null,230,"2009-10-23",4,"Песок",10,23,{"$f":"VLOOKUP(D241,Услуги!$C$17:$E$22,3)","v":300},69000,"Баранова"]
[null,231,"2009-10-24",1,"Гравий",3,24,{"$f":"VLOOKUP(D242,Услуги!$C$17:$E$22,3)","v":500},36000,"Меньшова"]
[null,232,"2009-10-24",1,"Гравий",3,23,{"$f":"VLOOKUP(D243,Услуги!$C$17:$E$22,3)","v":500},34500,"Смирнова"]
[null,233,"2009-10-24",2,"Доски",4,5,{"$f":"VLOOKUP(D244,Услуги!$C$17:$E$22,3)","v":400},8000,"Баранова"]
[null,234,"2009-10-24",5,"Цемент",5,14,{"$f":"VLOOKUP(D245,Услуги!$C$17:$E$22,3)","v":250},17500,"Смирнова"]
[null,235,"2009-10-24",5,"Цемент",5,19,{"$f":"VLOOKUP(D246,Услуги!$C$17:$E$22,3)","v":250},23750,"Меньшова"]
[null,236,"2009-10-24",5,"Цемент",6,20,{"$f":"VLOOKUP(D247,Услуги!$C$17:$E$22,3)","v":250},30000,"Меньшова"]
[null,237,"2009-10-24",4,"Песок",7,12,{"$f":"VLOOKUP(D248,Услуги!$C$17:$E$22,3)","v":300},25200,"Баранова"]
[null,238,"2009-10-24",5,"Цемент",7,29,{"$f":"VLOOKUP(D249,Услуги!$C$17:$E$22,3)","v":250},50750,"Смирнова"]
[null,239,"2009-10-24",1,"Гравий",8,19,{"$f":"VLOOKUP(D250,Услуги!$C$17:$E$22,3)","v":500},76000,"Смирнова"]
[null,240,"2009-10-24",2,"Доски",10,20,{"$f":"VLOOKUP(D251,Услуги!$C$17:$E$22,3)","v":400},80000,"Смирнова"]
[null,241,"2009-10-25",1,"Гравий",2,18,{"$f":"VLOOKUP(D252,Услуги!$C$17:$E$22,3)","v":500},18000,"Смирнова"]
[null,242,"2009-10-25",1,"Гравий",2,27,{"$f":"VLOOKUP(D253,Услуги!$C$17:$E$22,3)","v":500},27000,"Меньшова"]
[null,243,"2009-10-25",2,"Доски",2,27,{"$f":"VLOOKUP(D254,Услуги!$C$17:$E$22,3)","v":400},21600,"Баранова"]
[null,244,"2009-10-25",4,"Песок",4,24,{"$f":"VLOOKUP(D255,Услуги!$C$17:$E$22,3)","v":300},28800,"Баранова"]
[null,245,"2009-10-25",5,"Цемент",5,23,{"$f":"VLOOKUP(D256,Услуги!$C$17:$E$22,3)","v":250},28750,"Баранова"]
[null,246,"2009-10-25",4,"Песок",6,15,{"$f":"VLOOKUP(D257,Услуги!$C$17:$E$22,3)","v":300},27000,"Смирнова"]
[null,247,"2009-10-25",5,"Цемент",6,17,{"$f":"VLOOKUP(D258,Услуги!$C$17:$E$22,3)","v":250},25500,"Меньшова"]
[null,248,"2009-10-25",3,"Кирпич",8,10,{"$f":"VLOOKUP(D259,Услуги!$C$17:$E$22,3)","v":150},12000,"Баранова"]
[null,249,"2009-10-26",3,"Кирпич",1,17,{"$f":"VLOOKUP(D260,Услуги!$C$17:$E$22,3)","v":150},2550,"Смирнова"]
[null,250,"2009-10-26",3,"Кирпич",2,8,{"$f":"VLOOKUP(D261,Услуги!$C$17:$E$22,3)","v":150},2400,"Баранова"]
[null,251,"2009-10-26",4,"Песок",2,6,{"$f":"VLOOKUP(D262,Услуги!$C$17:$E$22,3)","v":300},3600,"Меньшова"]
[null,252,"2009-10-26",6,"Щебень",2,11,{"$f":"VLOOKUP(D263,Услуги!$C$17:$E$22,3)","v":100},2200,"Меньшова"]
[null,253,"2009-10-26",3,"Кирпич",3,23,{"$f":"VLOOKUP(D264,Услуги!$C$17:$E$22,3)","v":150},10350,"Смирнова"]
[null,254,"2009-10-26",6,"Щебень",3,15,{"$f":"VLOOKUP(D265,Услуги!$C$17:$E$22,3)","v":100},4500,"Смирнова"]
[null,255,"2009-10-26",3,"Кирпич",4,22,{"$f":"VLOOKUP(D266,Услуги!$C$17:$E$22,3)","v":150},13200,"Смирнова"]
[null,256,"2009-10-26",5,"Цемент",4,13,{"$f":"VLOOKUP(D267,Услуги!$C$17:$E$22,3)","v":250},13000,"Баранова"]
[null,257,"2009-10-26",6,{"$f":"VLOOKUP(D268,Справочник_товары,2)","v":"Щебень"},4,12,{"$f":"VLOOKUP(D268,Услуги!$C$17:$E$22,3)","v":100},4800,"Баранова"]
[null,258,"2009-10-26",2,"Доски",5,13,{"$f":"VLOOKUP(D269,Услуги!$C$17:$E$22,3)","v":400},{"$f":"F269*G269*H269","v":26000},"Смирнова"]
[null,259,"2009-10-26",4,"Песок",5,18,{"$f":"VLOOKUP(D270,Услуги!$C$17:$E$22,3)","v":300},27000,"Смирнова"]
[null,260,"2009-10-26",3,"Кирпич",6,11,{"$f":"VLOOKUP(D271,Услуги!$C$17:$E$22,3)","v":150},9900,"Смирнова"]
[null,261,"2009-10-26",6,"Щебень",6,20,{"$f":"VLOOKUP(D272,Услуги!$C$17:$E$22,3)","v":100},12000,"Меньшова"]
[null,262,"2009-10-26",6,"Щебень",6,18,{"$f":"VLOOKUP(D273,Услуги!$C$17:$E$22,3)","v":100},10800,"Меньшова"]
[null,263,"2009-10-26",6,"Щебень",8,22,{"$f":"VLOOKUP(D274,Услуги!$C$17:$E$22,3)","v":100},17600,"Смирнова"]
[null,264,"2009-10-27",1,"Гравий",1,16,{"$f":"VLOOKUP(D275,Услуги!$C$17:$E$22,3)","v":500},8000,"Смирнова"]
[null,265,"2009-10-27",6,"Щебень",2,26,{"$f":"VLOOKUP(D276,Услуги!$C$17:$E$22,3)","v":100},5200,"Баранова"]
[null,266,"2009-10-27",4,"Песок",3,25,{"$f":"VLOOKUP(D277,Услуги!$C$17:$E$22,3)","v":300},22500,"Смирнова"]
[null,267,"2009-10-27",1,"Гравий",4,22,{"$f":"VLOOKUP(D278,Услуги!$C$17:$E$22,3)","v":500},44000,"Смирнова"]
[null,268,"2009-10-27",1,"Гравий",4,18,{"$f":"VLOOKUP(D279,Услуги!$C$17:$E$22,3)","v":500},36000,"Баранова"]
[null,269,"2009-10-27",5,"Цемент",4,24,{"$f":"VLOOKUP(D280,Услуги!$C$17:$E$22,3)","v":250},24000,"Смирнова"]
[null,270,"2009-10-27",6,"Щебень",4,20,{"$f":"VLOOKUP(D281,Услуги!$C$17:$E$22,3)","v":100},8000,"Меньшова"]
[null,271,"2009-10-27",5,"Цемент",8,10,{"$f":"VLOOKUP(D282,Услуги!$C$17:$E$22,3)","v":250},20000,"Меньшова"]
[null,272,"2009-10-27",5,"Цемент",9,17,{"$f":"VLOOKUP(D283,Услуги!$C$17:$E$22,3)","v":250},38250,"Баранова"]
[null,273,"2009-10-27",6,"Щебень",9,28,{"$f":"VLOOKUP(D284,Услуги!$C$17:$E$22,3)","v":100},25200,"Баранова"]
[null,274,"2009-10-28",2,"Доски",1,25,{"$f":"VLOOKUP(D285,Услуги!$C$17:$E$22,3)","v":400},10000,"Меньшова"]
[null,275,"2009-10-28",3,"Кирпич",2,23,{"$f":"VLOOKUP(D286,Услуги!$C$17:$E$22,3)","v":150},6900,"Баранова"]
[null,276,"2009-10-28",1,"Гравий",3,13,{"$f":"VLOOKUP(D287,Услуги!$C$17:$E$22,3)","v":500},19500,"Баранова"]
[null,277,"2009-10-28",2,"Доски",3,13,{"$f":"VLOOKUP(D288,Услуги!$C$17:$E$22,3)","v":400},15600,"Меньшова"]
[null,278,"2009-10-28",4,"Песок",3,16,{"$f":"VLOOKUP(D289,Услуги!$C$17:$E$22,3)","v":300},14400,"Смирнова"]
[null,279,"2009-10-28",1,"Гравий",6,15,{"$f":"VLOOKUP(D290,Услуги!$C$17:$E$22,3)","v":500},45000,"Баранова"]
[null,280,"2009-10-28",3,"Кирпич",6,20,{"$f":"VLOOKUP(D291,Услуги!$C$17:$E$22,3)","v":150},18000,"Меньшова"]
[null,281,"2009-10-28",6,"Щебень",6,24,{"$f":"VLOOKUP(D292,Услуги!$C$17:$E$22,3)","v":100},14400,"Смирнова"]
[null,282,"2009-10-28",3,"Кирпич",8,6,{"$f":"VLOOKUP(D293,Услуги!$C$17:$E$22,3)","v":150},7200,"Смирнова"]
[null,283,"2009-10-28",6,"Щебень",8,15,{"$f":"VLOOKUP(D294,Услуги!$C$17:$E$22,3)","v":100},12000,"Баранова"]
[null,284,"2009-10-28",2,"Доски",9,19,{"$f":"VLOOKUP(D295,Услуги!$C$17:$E$22,3)","v":400},68400,"Меньшова"]
[null,285,"2009-10-29",1,"Гравий",3,5,{"$f":"VLOOKUP(D296,Услуги!$C$17:$E$22,3)","v":500},7500,"Меньшова"]
[null,286,"2009-10-29",3,"Кирпич",5,28,{"$f":"VLOOKUP(D297,Услуги!$C$17:$E$22,3)","v":150},21000,"Меньшова"]
[null,287,"2009-10-29",3,"Кирпич",6,11,{"$f":"VLOOKUP(D298,Услуги!$C$17:$E$22,3)","v":150},9900,"Меньшова"]
[null,288,"2009-10-29",4,"Песок",6,11,{"$f":"VLOOKUP(D299,Услуги!$C$17:$E$22,3)","v":300},19800,"Смирнова"]
[null,289,"2009-10-29",1,"Гравий",7,8,{"$f":"VLOOKUP(D300,Услуги!$C$17:$E$22,3)","v":500},28000,"Меньшова"]
[null,290,"2009-10-29",3,"Кирпич",10,10,{"$f":"VLOOKUP(D301,Услуги!$C$17:$E$22,3)","v":150},15000,"Меньшова"]
[null,291,"2009-10-30",2,"Доски",1,16,{"$f":"VLOOKUP(D302,Услуги!$C$17:$E$22,3)","v":400},6400,"Смирнова"]
[null,292,"2009-10-30",5,"Цемент",1,21,{"$f":"VLOOKUP(D303,Услуги!$C$17:$E$22,3)","v":250},5250,"Баранова"]
[null,293,"2009-10-30",4,"Песок",3,24,{"$f":"VLOOKUP(D304,Услуги!$C$17:$E$22,3)","v":300},21600,"Баранова"]
[null,294,"2009-10-30",1,"Гравий",4,7,{"$f":"VLOOKUP(D305,Услуги!$C$17:$E$22,3)","v":500},14000,"Меньшова"]
[null,295,"2009-10-30",3,"Кирпич",6,8,{"$f":"VLOOKUP(D306,Услуги!$C$17:$E$22,3)","v":150},7200,"Меньшова"]
[null,296,"2009-10-30",5,"Цемент",7,18,{"$f":"VLOOKUP(D307,Услуги!$C$17:$E$22,3)","v":250},31500,"Меньшова"]
[null,297,"2009-10-30",1,"Гравий",8,13,{"$f":"VLOOKUP(D308,Услуги!$C$17:$E$22,3)","v":500},52000,"Смирнова"]
[null,298,"2009-10-30",3,"Кирпич",8,26,{"$f":"VLOOKUP(D309,Услуги!$C$17:$E$22,3)","v":150},31200,"Баранова"]
[null,299,"2009-10-30",4,"Песок",8,5,{"$f":"VLOOKUP(D310,Услуги!$C$17:$E$22,3)","v":300},12000,"Меньшова"]
[null,300,"2009-10-30",6,"Щебень",10,25,{"$f":"VLOOKUP(D311,Услуги!$C$17:$E$22,3)","v":100},25000,"Баранова"]
[null,301,"2016-05-29",null,"Кирпич",11,44,150,72600,"Меньшова"]
[null,302,"2016-06-03",null,"Гравий",11,22,500,121000,"Меньшова"]
[null,303,"2016-06-03",null,"Кирпич",11,22,150,36300,"Баранова"]
[null,304,"2016-06-03",null,"Кирпич",33,111,130,476190,"Меньшова"]

{"sheet":"Оформление","index":4,"n_rows":18,"n_cols":16,"rows_kept":18,"cut":false,"hidden":false,"merged":[]}
[]
[]
[]
[]
[null,null,null,null,null,null,null,null,null,null,null,null,null,null,null,"Гравий"]
[null,null,null,null,null,null,null,null,null,null,null,null,null,null,null,"Доски"]
[null,null,null,null,null,null,null,null,null,null,null,null,null,null,null,"Кирпич"]
[null,null,null,null,null,null,null,null,null,null,null,null,null,null,null,"Песок"]
[null,null,null,null,null,null,null,null,null,null,null,null,null,null,null,"Цемент"]
[null,null,null,null,null,null,null,null,null,null,null,null,null,null,null,"Щебень"]
[null,null,null,"Заказ",305]
[null,null,null,"Дата",{"$f":"TODAY()","v":"2020-09-08"}]
[null,null,null,"Сотрудник","Смирнова"]
[null,null,null,"Материал","Доски"]
[null,null,null,"Расстояние",-10]
[null,null,null,"Количество",22]
[null,null,null,"Цена",{"$f":"PoiskCena(E14,E15)","v":400}]
[null,null,null,"Сумма",{"$f":"E15*E16*E17","v":-88000}]

{"sheet":"Test","index":5,"n_rows":60,"n_cols":12,"rows_kept":60,"cut":false,"hidden":false,"merged":[]}
[]
[]
[]
[null,null,"Material",null,null,null,"№ теста","Material","Rast","Kolvo","Rezult","Proverka"]
[null,null,"Гравий",null,null,null,1,"Гравий",10,10,50000,"+"]
[null,null,"Доски",null,null,null,2,"Гравий",10,-10,"Error","-"]
[null,null,"Кирпич",null,null,null,3,"Гравий",50,10,225000,"+"]
[null,null,"Песок",null,null,null,4,"Гравий",50,-10,"Error","-"]
[null,null,"Цемент",null,null,null,5,"Гравий",200,10,800000,"+"]
[null,null,"Щебень",null,null,null,6,"Гравий",200,-10,"Error","-"]
[null,null,"ttttt",null,null,null,7,"Гравий",-10,10,"Error","-"]
[null,null,null,null,null,null,8,"Гравий",-10,-10,"Error","-"]
[null,null,"Rast",null,null,null,9,"Доски",10,10,40000,"+"]
[null,null,10,null,null,null,10,"Доски",10,-10,"Error","-"]
[null,null,50,null,null,null,11,"Доски",50,10,175000,"+"]
[null,null,200,null,null,null,12,"Доски",50,-10,"Error","-"]
[null,null,-10,null,null,null,13,"Доски",200,10,600000,"+"]
[null,null,null,null,null,null,14,"Доски",200,-10,"Error","-"]
[null,null,null,null,null,null,15,"Доски",-10,10,"Error","-"]
[null,null,null,null,null,null,16,"Доски",-10,-10,"Error","-"]
[null,null,"Kolvo",null,null,null,17,"Кирпич",10,10,15000,"+"]
[null,null,10,null,null,null,18,"Кирпич",10,-10,"Error","-"]
[null,null,-10,null,null,null,19,"Кирпич",50,10,65000,"+"]
[null,null,null,null,null,null,20,"Кирпич",50,-10,"Error","-"]
[null,null,null,null,null,null,21,"Кирпич",200,10,220000,"+"]
[null,500,450,400,null,null,22,"Кирпич",200,-10,"Error","-"]
[null,400,350,300,null,null,23,"Кирпич",-10,10,"Error","-"]
[null,150,130,110,null,null,24,"Кирпич",-10,-10,"Error","-"]
[null,300,260,220,null,null,25,"Песок",10,10,30000,"+"]
[null,250,210,180,null,null,26,"Песок",10,-10,"Error","-"]
[null,100,90,80,null,null,27,"Песок",50,10,130000,"+"]
[null,null,null,null,null,null,28,"Песок",50,-10,"Error","-"]
[null,null,null,null,null,null,29,"Песок",200,10,440000,"+"]
[null,null,null,null,null,null,30,"Песок",200,-10,"Error","-"]
[null,null,null,null,null,null,31,"Песок",-10,10,"Error","-"]
[null,null,null,null,null,null,32,"Песок",-10,-10,"Error","-"]
[null,null,null,null,null,null,33,"Цемент",10,10,25000,"+"]
[null,null,null,null,null,null,34,"Цемент",10,-10,"Error","-"]
[null,null,null,null,null,null,35,"Цемент",50,10,105000,"+"]
[null,null,null,null,null,null,36,"Цемент",50,-10,"Error","-"]
[null,null,null,null,null,null,37,"Цемент",200,10,360000,"+"]
[null,null,null,null,null,null,38,"Цемент",200,-10,"Error","-"]
[null,null,null,null,null,null,39,"Цемент",-10,10,"Error","-"]
[null,null,null,null,null,null,40,"Цемент",-10,-10,"Error","-"]
[null,null,null,null,null,null,41,"Щебень",10,10,10000,"+"]
[null,null,null,null,null,null,42,"Щебень",10,-10,"Error","-"]
[null,null,null,null,null,null,43,"Щебень",50,10,45000,"+"]
[null,null,null,null,null,null,44,"Щебень",50,-10,"Error","-"]
[null,null,null,null,null,null,45,"Щебень",200,10,160000,"+"]
[null,null,null,null,null,null,46,"Щебень",200,-10,"Error","-"]
[null,null,null,null,null,null,47,"Щебень",-10,10,"Error","-"]
[null,null,null,null,null,null,48,"Щебень",-10,-10,"Error","-"]
[null,null,null,null,null,null,49,"ttttt",10,10,"Error","-"]
[null,null,null,null,null,null,50,"ttttt",10,-10,"Error","-"]
[null,null,null,null,null,null,51,"ttttt",50,10,"Error","-"]
[null,null,null,null,null,null,52,"ttttt",50,-10,"Error","-"]
[null,null,null,null,null,null,53,"ttttt",200,10,"Error","-"]
[null,null,null,null,null,null,54,"ttttt",200,-10,"Error","-"]
[null,null,null,null,null,null,55,"ttttt",-10,10,"Error","-"]
[null,null,null,null,null,null,56,"ttttt",-10,-10,"Error","-"]

{"sheet":"Сотрудники","index":6,"n_rows":11,"n_cols":12,"rows_kept":11,"cut":false,"hidden":false,"merged":[]}
[]
[]
[]
[]
[]
[null,"Таб.№","Фамилия","Имя","Пол","Отдел","Оклад","Дата рожд.","Дети","Адрес","Телефон"]
[null,100,"Александров","Алексей","м","Плановый",14500,1965,1,"ул. Заовражная",231686,"Директор"]
[null,200,"Петрова","Мария","ж","Производственный",10000,1953,0,"ул. Ленина",401623,"Бухгалтер"]
[1,300,"Смирнова","Дарья","ж","Сбыта",13500,1971,1,"ул. Мира",298466,"Водитель"]
[2,400,"Меньшова","Людмила","ж","Снабжения",15500,1957,2,"ул. Заовражная",272137,"Водитель"]
[3,500,"Баранова","Светлана","ж","Сбыта",13000,1945,2,"ул. Водопроводная",341389,"Водитель"]

{"sheet":"Начисление зп","index":7,"n_rows":29,"n_cols":9,"rows_kept":29,"cut":false,"hidden":false,"merged":[]}
[]
[]
[]
[]
[]
[]
[]
[]
[]
[]
[]
[null,"Таб.№","ФИО","Начислено","Удержано","К выдаче","Дети","Сумма","На детей"]
[null,{"$f":"Сотрудники!B7","v":100},{"$f":"Сотрудники!C7 & \" \" & LEFT(Сотрудники!D7) & \".\"","v":"Александров А."},{"$f":"GETPIVOTDATA(\"Сумма\",$C$24)*10%","v":2058425},{"$f":"IF(H13<280000,(D13-I13)*0.13,D13*0.13)","v":267413.25},{"$f":"D13-E13","v":1791011.75},{"$f":"Сотрудники!I7","v":1},{"$f":"D13*$U$14","v":0},{"$f":"IF(G13<3,G13*1400,2800+(G13-2)*3000)","v":1400}]
[null,{"$f":"Сотрудники!B8","v":200},{"$f":"Сотрудники!C8 & \" \" & LEFT(Сотрудники!D8) & \".\"","v":"Петрова М."},{"$f":"GETPIVOTDATA(\"Сумма\",$C$24)*5%","v":1029212.5},{"$f":"IF(H14<280000,(D14-I14)*0.13,D14*0.13)","v":133797.625},{"$f":"D14-E14","v":895414.875},{"$f":"Сотрудники!I8","v":0},{"$f":"D14*$U$14","v":0},{"$f":"IF(G14<3,G14*1400,2800+(G14-2)*3000)","v":0}]
[null,{"$f":"Сотрудники!B9","v":300},{"$f":"Сотрудники!C9 & \" \" & LEFT(Сотрудники!D9) & \".\"","v":"Смирнова Д."},{"$f":"GETPIVOTDATA(\"Сумма\",$C$24,\"Сотрудник\",\"Смирнова\")*20%","v":468600},{"$f":"IF(H15<280000,(D15-I15)*0.13,D15*0.13)","v":60736},{"$f":"D15-E15","v":407864},{"$f":"Сотрудники!I9","v":1},{"$f":"D15*$U$14","v":0},{"$f":"IF(G15<3,G15*1400,2800+(G15-2)*3000)","v":1400}]
[null,{"$f":"Сотрудники!B10","v":400},{"$f":"Сотрудники!C10 & \" \" & LEFT(Сотрудники!D10) & \".\"","v":"Меньшова Л."},{"$f":"GETPIVOTDATA(\"Сумма\",$C$24,\"Сотрудник\",\"Меньшова\")*20%","v":3091050},{"$f":"IF(H16<280000,(D16-I16)*0.13,D16*0.13)","v":401472.5},{"$f":"D16-E16","v":2689577.5},{"$f":"Сотрудники!I10","v":2},{"$f":"D16*$U$14","v":0},{"$f":"IF(G16<3,G16*1400,2800+(G16-2)*3000)","v":2800}]
[null,{"$f":"Сотрудники!B11","v":500},{"$f":"Сотрудники!C11 & \" \" & LEFT(Сотрудники!D11) & \".\"","v":"Баранова С."},{"$f":"GETPIVOTDATA(\"Сумма\",$C$24,\"Сотрудник\",\"Баранова\")*20%","v":557200},{"$f":"IF(H17<280000,(D17-I17)*0.13,D17*0.13)","v":72072},{"$f":"D17-E17","v":485128},{"$f":"Сотрудники!I11","v":2},{"$f":"D17*$U$14","v":0},{"$f":"IF(G17<3,G17*1400,2800+(G17-2)*3000)","v":2800}]
[]
[]
[]
[]
[]
[]
[null,null,"Сумма по полю Сумма"]
[null,null,"Сотрудник","Итог",null,{"$f":"PoiskMax(D13:D17,C13:C17)","v":"Меньшова Л."}]
[null,null,"Баранова",2786000]
[null,null,"Меньшова",15455250]
[null,null,"Смирнова",2343000]
[null,null,"Общий итог",20584250]

{"sheet":"Отчеты","index":8,"n_rows":71,"n_cols":21,"rows_kept":71,"cut":false,"hidden":false,"merged":[[3,4,3,5]]}
[]
[]
[]
[]
[]
[null,null,null,null,null,null,null,null,null,null,null,null,null,null,null,null,"Дата продажи","Дата продажи"]
[null,null,null,null,null,null,null,null,null,null,null,null,null,null,null,null,{"$f":"\">=\"&F6","v":">="},{"$f":"\"<=\"&F7","v":"<="}]
[null,null,"Сумма по полю Сумма"]
[null,null,"Наименование","Итог"]
[null,null,"Гравий",2837000]
[null,null,"Доски",1595600,null,null,null,null,null,null,null,null,null,null,null,null,null,null,null,null,"Выручка"]
[null,null,"Кирпич",13780650,null,null,null,null,null,null,null,null,null,null,null,null,null,null,null,null,"Средняя выручка"]
[null,null,"Песок",1072200,null,null,null,null,null,null,null,null,null,null,null,null,null,null,null,null,"Максимальная выручка"]
[null,null,"Цемент",926500,null,null,null,null,null,null,null,null,null,null,null,null,null,null,null,null,"Минимальная выручка"]
[null,null,"Щебень",372300,null,null,null,null,null,null,null,null,null,null,null,null,null,null,null,null,4]
[null,null,"Общий итог",20584250]
[null,null,null,null,null,null,null,null,null,"Самый доходный",{"$f":"PoiskMax(D10:D15,C10:C15)","v":"Кирпич"}]
[null,null,null,null,null,null,null,null,null,"Самый невыгодный",{"$f":"PoiskMin(D10:D15,C10:C15)","v":"Щебень"}]
[]
[null,null,"Количество по полю Сумма"]
[null,null,"Наименование","Итог"]
[null,null,"Гравий",64]
[null,null,"Доски",49]
[null,null,"Кирпич",71]
[null,null,"Песок",37]
[null,null,"Цемент",39]
[null,null,"Щебень",42]
[null,null,"Общий итог",302]
[]
[]
[]
[null,null,"Количество по полю Наименование","Сотрудник"]
[null,null,"Наименование","Баранова","Меньшова","Смирнова","Общий итог"]
[null,null,"Гравий",23,21,20,64]
[null,null,"Доски",14,22,13,49]
[null,null,"Кирпич",26,20,25,71]
[null,null,"Песок",15,10,12,37]
[null,null,"Цемент",11,12,16,39]
[null,null,"Щебень",15,11,16,42]
[null,null,"Общий итог",104,96,102,302]
[]
[]
[null,null,"Количество по полю Сотрудник"]
[null,null,"Сотрудник","Итог"]
[null,null,"Баранова",104]
[null,null,"Меньшова",96]
[null,null,"Смирнова",102]
[null,null,"Общий итог",302]
[]
[]
[null,null,"Сумма по полю Расстояние"]
[null,null,"Наименование","Итог"]
[null,null,"Гравий",1165]
[null,null,"Доски",849]
[null,null,"Кирпич",1272]
[null,null,"Песок",617]
[null,null,"Цемент",639]
[null,null,"Щебень",725]
[null,null,"Общий итог",5267]
[]
[]
[]
[null,null,"Сумма по полю Количество"]
[null,null,"Наименование","Итог"]
[null,null,"Гравий",328]
[null,null,"Доски",235]
[null,null,"Кирпич",1942]
[null,null,"Песок",209]
[null,null,"Цемент",231]
[null,null,"Щебень",215]
[null,null,"Общий итог",3160]

{"sheet":"Доступ","index":9,"n_rows":15,"n_cols":12,"rows_kept":15,"cut":false,"hidden":false,"merged":[]}
[null,null,null,null,null,null,null,1,"Заставка",null,null,"Rectangle 9"]
[null,null,null,null,null,null,null,2,"Меню",null,"Товары","CommandButton1"]
[null,null,null,null,null,null,null,3,"Товары",null,"Продажи","CommandButton2"]
["Номер листа","Название","Директор","Бухгалтер","Менеджер","Системный администратор",null,4,"Продажи",null,"Поставки","CommandButton3"]
[null,"Пароль","a","b","c","d",null,5,"Поставки",null,"Поставщики","CommandButton4"]
[1,"Заставка",1,1,1,1,null,6,"Поставщики",null,"Сотрудники","CommandButton5"]
[2,"Меню",1,1,1,1,null,7,"Сотрудники",null,"Начисление зп","CommandButton6"]
[3,"Товары",1,1,2,1,null,8,"Начисление зп",null,"Отчеты","CommandButton7"]
[4,"Продажи",1,1,2,1,null,9,"Отчеты",null,"Доступ","CommandButton8"]
[5,"Поставки ",1,1,2,1,null,10,"Доступ",null,"Выход","CommandButton9"]
[6,"Поставщики",1,1,2,1]
[7,"Сотрудники",1,2,0,1]
[8,"Начисление зп",1,2,0,1]
[9,"Отчеты",1,1,2,2]
[10,"Доступ",0,0,0,2]